BEGIN:VCALENDAR
VERSION:2.0
PRODID:-//Plone.org//NONSGML plone.app.event//EN
X-WR-TIMEZONE:America/Sao_Paulo
BEGIN:VEVENT
SUMMARY:CAPACIDADE EXCEDIDA em [ Entorno da Praca de Servicos Auditorio No
 bre do CAD 1 Auditorio 2A do CAD 1 Auditório B302 do CAD 3 Auditório B10
 1/102 do CAD 3 Auditório B301 do CAD 3]
DTSTART;TZID=America/Sao_Paulo;VALUE=DATE-TIME:20200727T130000
DTEND;TZID=America/Sao_Paulo;VALUE=DATE-TIME:20200727T170000
DTSTAMP;VALUE=DATE-TIME:20260424T200549Z
UID:40f0cff216e144f9a71cfa81a7ef0b38@150.164.76.86:8080
CREATED;VALUE=DATE-TIME:20200206T121423Z
DESCRIPTION:<p>.</p>
LAST-MODIFIED;VALUE=DATE-TIME:20230111T201041Z
URL:http://150.164.76.86:8080/cac/agenda/2505791363037829803
END:VEVENT
BEGIN:VTIMEZONE
TZID:America/Sao_Paulo
X-LIC-LOCATION:America/Sao_Paulo
BEGIN:STANDARD
DTSTART;VALUE=DATE-TIME:20200215T230000
TZNAME:BRT
TZOFFSETFROM:-0200
TZOFFSETTO:-0300
END:STANDARD
END:VTIMEZONE
END:VCALENDAR
