BEGIN:VCALENDAR
VERSION:2.0
PRODID:-//Plone.org//NONSGML plone.app.event//EN
X-WR-TIMEZONE:America/Sao_Paulo
BEGIN:VEVENT
SUMMARY:Projeto Recitais em [ Outros espacos]
DTSTART;TZID=America/Sao_Paulo;VALUE=DATE-TIME:20240620T170000
DTEND;TZID=America/Sao_Paulo;VALUE=DATE-TIME:20240620T213000
DTSTAMP;VALUE=DATE-TIME:20260420T014337Z
UID:57a407f8a857486b8899e4678eced70f@150.164.76.86:8080
CREATED;VALUE=DATE-TIME:20240110T194105Z
DESCRIPTION:Solicitação:\n\n01 Técnico de som para atender o evento\;\n
 \nShow: "Show brasileiro Nato" - \nArtista: Marcos Antônio de Oliveira Sa
 ntos (Olivêra) \nVoz\, violão\, viola caipira\, percussão\, guitarra e 
 backing vocal\;\nRider: 6 microfones SM58 (4 para vozes e 2 para percussã
 o)\; violão e viola caipira serão ligados em linha\; captação do ampli
 ficador de guitarra através de 1 microfone.\n\nOlivêra (violão e voz)\,
  acompanhado de um musicista na viola caipira\, um percussionista (pandeir
 o\,\n tambor de congada e chocalho) e 2 backing vocals. O show terá a par
 ticipação de um guitarrista em 1 canção.
LAST-MODIFIED;VALUE=DATE-TIME:20240111T140938Z
URL:http://150.164.76.86:8080/cac/agenda/2487244167373442339
END:VEVENT
BEGIN:VTIMEZONE
TZID:America/Sao_Paulo
X-LIC-LOCATION:America/Sao_Paulo
BEGIN:STANDARD
DTSTART;VALUE=DATE-TIME:20240217T230000
TZNAME:BRT
TZOFFSETFROM:-0200
TZOFFSETTO:-0300
END:STANDARD
END:VTIMEZONE
END:VCALENDAR
