BEGIN:VCALENDAR
VERSION:2.0
PRODID:-//Plone.org//NONSGML plone.app.event//EN
X-WR-TIMEZONE:America/Sao_Paulo
BEGIN:VEVENT
SUMMARY:ASSEMBLEIA DO SINDIFES em [ Auditório B107 do CAD3]
DTSTART;TZID=America/Sao_Paulo;VALUE=DATE-TIME:20240517T080000
DTEND;TZID=America/Sao_Paulo;VALUE=DATE-TIME:20240517T170000
DTSTAMP;VALUE=DATE-TIME:20260420T032306Z
UID:75df0956ced94774840bb10a842437d5@150.164.76.86:8080
CREATED;VALUE=DATE-TIME:20240503T141342Z
DESCRIPTION:<p>assembleia</p>
LAST-MODIFIED;VALUE=DATE-TIME:20240506T144714Z
URL:http://150.164.76.86:8080/cac/agenda/2480364360488268927
END:VEVENT
BEGIN:VTIMEZONE
TZID:America/Sao_Paulo
X-LIC-LOCATION:America/Sao_Paulo
BEGIN:STANDARD
DTSTART;VALUE=DATE-TIME:20240217T230000
TZNAME:BRT
TZOFFSETFROM:-0200
TZOFFSETTO:-0300
END:STANDARD
END:VTIMEZONE
END:VCALENDAR
