BEGIN:VCALENDAR
VERSION:2.0
PRODID:-//Plone.org//NONSGML plone.app.event//EN
X-WR-TIMEZONE:America/Sao_Paulo
BEGIN:VEVENT
SUMMARY:OUTORGA TÍTULO DE PROF. EMÉRITO em [ Auditorio Nobre do CAD 1]
DTSTART;TZID=America/Sao_Paulo;VALUE=DATE-TIME:20221103T140000
DTEND;TZID=America/Sao_Paulo;VALUE=DATE-TIME:20221103T210000
DTSTAMP;VALUE=DATE-TIME:20260421T204324Z
UID:9d50d78172574335b488528d13b7eca6@150.164.76.86:8080
CREATED;VALUE=DATE-TIME:20220816T181909Z
DESCRIPTION:Solenidade de outorga do título de Prof. Emérito dos Profs. 
 Carlos Alberto Tavares e Jacques Nicoli.
LAST-MODIFIED;VALUE=DATE-TIME:20220819T182724Z
URL:http://150.164.76.86:8080/cac/agenda/2462297197322213084
END:VEVENT
BEGIN:VTIMEZONE
TZID:America/Sao_Paulo
X-LIC-LOCATION:America/Sao_Paulo
BEGIN:DAYLIGHT
DTSTART;VALUE=DATE-TIME:20221016T010000
TZNAME:BRST
TZOFFSETFROM:-0300
TZOFFSETTO:-0200
END:DAYLIGHT
END:VTIMEZONE
END:VCALENDAR
