BEGIN:VCALENDAR
VERSION:2.0
PRODID:-//Plone.org//NONSGML plone.app.event//EN
X-WR-TIMEZONE:America/Sao_Paulo
BEGIN:VEVENT
SUMMARY:XV Torneio de Xadrez DCE-UFMG em [ Arena da praça de serviços]
DTSTART;TZID=America/Sao_Paulo;VALUE=DATE-TIME:20241116T090000
DTEND;TZID=America/Sao_Paulo;VALUE=DATE-TIME:20241116T160000
DTSTAMP;VALUE=DATE-TIME:20260419T175808Z
UID:cc7a968a9a404170b7fa0a958e4b1cc2@150.164.76.86:8080
CREATED;VALUE=DATE-TIME:20241011T123550Z
DESCRIPTION:Evento sobre xadrez\, realizado semestralmente pelo DCE UFMG. 
 Não necessita de nada além do espaço.
LAST-MODIFIED;VALUE=DATE-TIME:20241011T125636Z
URL:http://150.164.76.86:8080/cac/agenda/2461363127302554387
END:VEVENT
BEGIN:VTIMEZONE
TZID:America/Sao_Paulo
X-LIC-LOCATION:America/Sao_Paulo
BEGIN:DAYLIGHT
DTSTART;VALUE=DATE-TIME:20241020T010000
TZNAME:BRST
TZOFFSETFROM:-0300
TZOFFSETTO:-0200
END:DAYLIGHT
END:VTIMEZONE
END:VCALENDAR
