BEGIN:VCALENDAR
VERSION:2.0
PRODID:-//Plone.org//NONSGML plone.app.event//EN
X-WR-TIMEZONE:America/Sao_Paulo
BEGIN:VEVENT
SUMMARY:Reunião Sala de Sessões em [ Outros espacos]
DTSTART;TZID=America/Sao_Paulo;VALUE=DATE-TIME:20230202T140000
DTEND;TZID=America/Sao_Paulo;VALUE=DATE-TIME:20230202T180000
DTSTAMP;VALUE=DATE-TIME:20260421T163531Z
UID:bdc7e175e2684f16b52dc29f87c3a2da@150.164.76.86:8080
CREATED;VALUE=DATE-TIME:20230118T123304Z
DESCRIPTION:<p>Reunião PROGRAD com Reitora e Diretores de unidade. Apoio 
 técnico. </p>
LAST-MODIFIED;VALUE=DATE-TIME:20230118T123314Z
URL:http://150.164.76.86:8080/cac/agenda/2459051533026367398
END:VEVENT
BEGIN:VTIMEZONE
TZID:America/Sao_Paulo
X-LIC-LOCATION:America/Sao_Paulo
BEGIN:DAYLIGHT
DTSTART;VALUE=DATE-TIME:20221016T010000
TZNAME:BRST
TZOFFSETFROM:-0300
TZOFFSETTO:-0200
END:DAYLIGHT
END:VTIMEZONE
END:VCALENDAR
