BEGIN:VCALENDAR
VERSION:2.0
PRODID:-//Plone.org//NONSGML plone.app.event//EN
X-WR-TIMEZONE:America/Sao_Paulo
BEGIN:VEVENT
SUMMARY:XI Simpósio de Microbiologia da UFMG em [ Auditorio Nobre do CAD 
 1]
DTSTART;TZID=America/Sao_Paulo;VALUE=DATE-TIME:20241216T090000
DTEND;TZID=America/Sao_Paulo;VALUE=DATE-TIME:20241219T180000
DTSTAMP;VALUE=DATE-TIME:20260419T163528Z
UID:ac852d82579145f6bdd4c25e803c7126@150.164.76.86:8080
CREATED;VALUE=DATE-TIME:20240620T140734Z
DESCRIPTION:<p>O simpósio incluirá uma cerimônia de abertura e apresent
 ações de seminários por psquisadores convidados. Assim\, será necessá
 ria a estrutura de audiovisual do auditorio\, bem como da mesa e púlpito.
  Para o credenciamento\, será necessário o uso do balcão na entrada do 
 CAD1. Além disso\, patrocinadores farão exposições no hall de entrada 
 do CAD1\, sendo necessária mesas e cadeiras para acomodá-los. Haverá ta
 mbém oferta de coffee-breaks\, sendo necessária mesas e isolamento do sa
 guão do CAD1 durante os intervalos. Por fim\, haverá apresentação de t
 rabalhos em forma de posters\, sendo necessario o uso de cavaletes para di
 sposição dos banners.</p>
LAST-MODIFIED;VALUE=DATE-TIME:20240702T142558Z
URL:http://150.164.76.86:8080/cac/agenda/2451243706282382422
END:VEVENT
BEGIN:VTIMEZONE
TZID:America/Sao_Paulo
X-LIC-LOCATION:America/Sao_Paulo
BEGIN:DAYLIGHT
DTSTART;VALUE=DATE-TIME:20241020T010000
TZNAME:BRST
TZOFFSETFROM:-0300
TZOFFSETTO:-0200
END:DAYLIGHT
END:VTIMEZONE
END:VCALENDAR
