BEGIN:VCALENDAR
VERSION:2.0
PRODID:-//Plone.org//NONSGML plone.app.event//EN
X-WR-TIMEZONE:America/Sao_Paulo
BEGIN:VEVENT
SUMMARY:Outorga Prof Emérito Professora Misabel Derzi em [ Outros espacos
 ]
DTSTART;TZID=America/Sao_Paulo;VALUE=DATE-TIME:20230925T170000
DTEND;TZID=America/Sao_Paulo;VALUE=DATE-TIME:20230925T200000
DTSTAMP;VALUE=DATE-TIME:20260421T051407Z
UID:a94811f2128d4a97bbd626d21cde631f@150.164.76.86:8080
CREATED;VALUE=DATE-TIME:20230831T195901Z
DESCRIPTION:<p><span style="text-align: left\; text-decoration-thickness: 
 initial\; text-decoration-style: initial\; text-decoration-color: initial\
 ; float: none\; ">Professora Misabel Derzi\, <span style="text-align: left
 \; text-decoration-thickness: initial\; text-decoration-style: initial\; t
 ext-decoration-color: initial\; float: none\; ">E. Direito</span><br /></s
 pan></p>\n<p><em><span style="text-align: left\; text-decoration-thickness
 : initial\; text-decoration-style: initial\; text-decoration-color: initia
 l\; float: none\; "><span style="text-align: left\; text-decoration-thickn
 ess: initial\; text-decoration-style: initial\; text-decoration-color: ini
 tial\; float: none\; ">Auditorium Maximus Alberto Deodato</span></span></e
 m></p>
LAST-MODIFIED;VALUE=DATE-TIME:20230905T180756Z
URL:http://150.164.76.86:8080/cac/agenda/2442691666034663399
END:VEVENT
BEGIN:VTIMEZONE
TZID:America/Sao_Paulo
X-LIC-LOCATION:America/Sao_Paulo
BEGIN:STANDARD
DTSTART;VALUE=DATE-TIME:20230225T230000
TZNAME:BRT
TZOFFSETFROM:-0200
TZOFFSETTO:-0300
END:STANDARD
END:VTIMEZONE
END:VCALENDAR
