BEGIN:VCALENDAR
VERSION:2.0
PRODID:-//Plone.org//NONSGML plone.app.event//EN
X-WR-TIMEZONE:America/Sao_Paulo
BEGIN:VEVENT
SUMMARY:Feriado Nossa Senhora Aparecida em [ Saguao da Reitoria Auditorio 
 da Reitoria Gramado da Reitoria Entorno da Praca de Servicos Auditorio Nob
 re do CAD 1 Auditorio 1A do CAD 1 Auditorio 2A do CAD 1 Auditorio A102 do 
 Cad 2 Auditorio A104 do Cad 2 Arena da praça de serviços Auditório B302
  do CAD 3 Auditório B101/102 do CAD 3 Auditório B301 do CAD 3]
DTSTART;TZID=America/Sao_Paulo;VALUE=DATE-TIME:20221012T000000
DTEND;TZID=America/Sao_Paulo;VALUE=DATE-TIME:20221012T230000
DTSTAMP;VALUE=DATE-TIME:20260421T235019Z
UID:705f05c9c7f14fb28b3987f2f6a92571@150.164.76.86:8080
CREATED;VALUE=DATE-TIME:20211122T145300Z
DESCRIPTION:<p>.</p>
LAST-MODIFIED;VALUE=DATE-TIME:20230111T201052Z
URL:http://150.164.76.86:8080/cac/agenda/2440848742621480069
END:VEVENT
BEGIN:VTIMEZONE
TZID:America/Sao_Paulo
X-LIC-LOCATION:America/Sao_Paulo
BEGIN:STANDARD
DTSTART;VALUE=DATE-TIME:20220219T230000
TZNAME:BRT
TZOFFSETFROM:-0200
TZOFFSETTO:-0300
END:STANDARD
END:VTIMEZONE
END:VCALENDAR
