BEGIN:VCALENDAR
VERSION:2.0
PRODID:-//Plone.org//NONSGML plone.app.event//EN
X-WR-TIMEZONE:America/Sao_Paulo
BEGIN:VEVENT
SUMMARY:Ao cair da tarde em [ Arena da praça de serviços]
DTSTART;TZID=America/Sao_Paulo;VALUE=DATE-TIME:20231026T140000
DTEND;TZID=America/Sao_Paulo;VALUE=DATE-TIME:20231026T190000
DTSTAMP;VALUE=DATE-TIME:20260420T214408Z
UID:77601185127b4f7889166a02e1e57218@150.164.76.86:8080
CREATED;VALUE=DATE-TIME:20221124T163344Z
DESCRIPTION:Ao cair da tarde. Somente reserva do espaço\, equipamentos a 
 definir.
LAST-MODIFIED;VALUE=DATE-TIME:20221129T151101Z
URL:http://150.164.76.86:8080/cac/agenda/2437164451243013086
END:VEVENT
BEGIN:VTIMEZONE
TZID:America/Sao_Paulo
X-LIC-LOCATION:America/Sao_Paulo
BEGIN:DAYLIGHT
DTSTART;VALUE=DATE-TIME:20231015T010000
TZNAME:BRST
TZOFFSETFROM:-0300
TZOFFSETTO:-0200
END:DAYLIGHT
END:VTIMEZONE
END:VCALENDAR
