BEGIN:VCALENDAR
VERSION:2.0
PRODID:-//Plone.org//NONSGML plone.app.event//EN
X-WR-TIMEZONE:America/Sao_Paulo
BEGIN:VEVENT
SUMMARY:Abertura dos Programas PIBID e Residência Pedagógica da UFMG em 
 [ Auditorio Nobre do CAD 1]
DTSTART;TZID=America/Sao_Paulo;VALUE=DATE-TIME:20221116T140000
DTEND;TZID=America/Sao_Paulo;VALUE=DATE-TIME:20221116T180000
DTSTAMP;VALUE=DATE-TIME:20260421T220830Z
UID:619edeaea20246d98b447b87142fd42a@150.164.76.86:8080
CREATED;VALUE=DATE-TIME:20221020T115618Z
DESCRIPTION:Abertura dos Programas PIBID e Residência Pedagógica da UFMG
 . Palestra.
LAST-MODIFIED;VALUE=DATE-TIME:20221020T121516Z
URL:http://150.164.76.86:8080/cac/agenda/2432077827273788320
END:VEVENT
BEGIN:VTIMEZONE
TZID:America/Sao_Paulo
X-LIC-LOCATION:America/Sao_Paulo
BEGIN:DAYLIGHT
DTSTART;VALUE=DATE-TIME:20221016T010000
TZNAME:BRST
TZOFFSETFROM:-0300
TZOFFSETTO:-0200
END:DAYLIGHT
END:VTIMEZONE
END:VCALENDAR
