BEGIN:VCALENDAR
VERSION:2.0
PRODID:-//Plone.org//NONSGML plone.app.event//EN
X-WR-TIMEZONE:America/Sao_Paulo
BEGIN:VEVENT
SUMMARY:VII Conferencia Latinoamericana sobre o cultivo de peces nativos e
 m [ Auditorio Nobre do CAD 1]
DTSTART;TZID=America/Sao_Paulo;VALUE=DATE-TIME:20200625T080000
DTEND;TZID=America/Sao_Paulo;VALUE=DATE-TIME:20200626T130000
DTSTAMP;VALUE=DATE-TIME:20260424T224359Z
UID:50d9497fc05049f8a6ffe94bd2122592@150.164.76.86:8080
CREATED;VALUE=DATE-TIME:20200219T134200Z
DESCRIPTION:<p><span>Serão necessários equipamentos audiovisual Serviço
  de assessoramento audiovisual 22/06/2020 - 2ª Feira 08:00 – 17:00 Rece
 pção/Entrega de material 09:00 - 12:00 Mini-cursos 19:30 - 20:00 Abertur
 a oficial 23/06/2020 - 3ª feira 08:45 – 09:30 Apresentação do Congres
 so 09:30 - 10:30 Palestra 10:30 – 11:00 Apresentações orais Coffee-bre
 ak 11:00 – 12:00 Apresentações orais 12:00 - 14:00 Almoço 14:00 - 14:
 45 Palestra 14:45 - 15:45 Apresentações orais 15:45 – 16:15 Coffee-bre
 ak 16:15 – 17:15 Apresentações orais 17:15 – 18:00 Sessão de pôste
 res 24/06/2020 - 4ª feira 08:30 – 09:15 Palestra 09:15 - 10:15 Apresent
 ações orais 10:15 – 10:45 Coffee-break 10:45 – 12:00 Apresentações
  orais 12:00 - 14:00 Almoço 14:00 - 14:45 Palestra 14:45 - 15:45 Apresent
 ações orais 15:45 – 16:15 Coffee-break 16:15 – 17:15 Apresentações
  orais 17:15 – 18:00 Sessão de pôsteres 26/06/2020 - 6ª feira 09:00 
 – 10:00 Reunião da “Asociación Latinoamericana de Cultivo de Peces
 ” Designação do país anfitrião para realização do próximo evento 
 10:00 - 12:00 Premiações de trabalhos</span></p>
LAST-MODIFIED;VALUE=DATE-TIME:20200219T134227Z
URL:http://150.164.76.86:8080/cac/agenda/2431879175011488934
END:VEVENT
BEGIN:VTIMEZONE
TZID:America/Sao_Paulo
X-LIC-LOCATION:America/Sao_Paulo
BEGIN:STANDARD
DTSTART;VALUE=DATE-TIME:20200215T230000
TZNAME:BRT
TZOFFSETFROM:-0200
TZOFFSETTO:-0300
END:STANDARD
END:VTIMEZONE
END:VCALENDAR
