BEGIN:VCALENDAR
VERSION:2.0
PRODID:-//Plone.org//NONSGML plone.app.event//EN
X-WR-TIMEZONE:America/Sao_Paulo
BEGIN:VEVENT
SUMMARY:Nanotec InSight Workshop Merck UFMG em [ Auditório B106 do CAD3]
DTSTART;TZID=America/Sao_Paulo;VALUE=DATE-TIME:20240822T090000
DTEND;TZID=America/Sao_Paulo;VALUE=DATE-TIME:20240823T170000
DTSTAMP;VALUE=DATE-TIME:20260419T223022Z
UID:785e585646f44a30b9c9a6902e77b7ac@150.164.76.86:8080
CREATED;VALUE=DATE-TIME:20230925T130558Z
DESCRIPTION:<p>Jornada de empreendedorismo em nanotecnologia Merck UFMG</p
 >
LAST-MODIFIED;VALUE=DATE-TIME:20240814T114726Z
URL:http://150.164.76.86:8080/cac/agenda/2416485169300900670
END:VEVENT
BEGIN:VTIMEZONE
TZID:America/Sao_Paulo
X-LIC-LOCATION:America/Sao_Paulo
BEGIN:STANDARD
DTSTART;VALUE=DATE-TIME:20240217T230000
TZNAME:BRT
TZOFFSETFROM:-0200
TZOFFSETTO:-0300
END:STANDARD
END:VTIMEZONE
END:VCALENDAR
