BEGIN:VCALENDAR
VERSION:2.0
PRODID:-//Plone.org//NONSGML plone.app.event//EN
X-WR-TIMEZONE:America/Sao_Paulo
BEGIN:VEVENT
SUMMARY:Troca de Gestão Mult Jr. em [ Outros espacos]
DTSTART;TZID=America/Sao_Paulo;VALUE=DATE-TIME:20221216T163000
DTEND;TZID=America/Sao_Paulo;VALUE=DATE-TIME:20221216T203000
DTSTAMP;VALUE=DATE-TIME:20260421T205207Z
UID:6fc59473bdcc467091ef1fb066d35152@150.164.76.86:8080
CREATED;VALUE=DATE-TIME:20221129T143105Z
DESCRIPTION:<p>Semestralmente\, desde 2006\, a Mult Jr. - Consultoria e Pr
 ojetos (Empresa Júnior de Engenharia Química da UFMG) realiza sua Troca 
 de Gestão. Neste evento\, serão expostos todos os resultados que a empre
 sa atingiu no ano de 2022\, em termos de faturamento\, projetos executados
  e impacto na sociedade. Além disso\, há um momento para despedida dos D
 iretores que estão saindo e recepção dos novos Diretores. Por fim\, os 
 professores responsáveis pela empresa discursam também em uma homenagem.
  É o momento mais importante do semestre\, sendo ele destinado aos membro
 s da empresa\, seus familiares e professores/profissionais vinculados à i
 niciativa. Os equipamentos necessários são: microfone e projetos para ap
 resentação de slides.</p>
LAST-MODIFIED;VALUE=DATE-TIME:20221129T204448Z
URL:http://150.164.76.86:8080/cac/agenda/2410766650023703195
END:VEVENT
BEGIN:VTIMEZONE
TZID:America/Sao_Paulo
X-LIC-LOCATION:America/Sao_Paulo
BEGIN:DAYLIGHT
DTSTART;VALUE=DATE-TIME:20221016T010000
TZNAME:BRST
TZOFFSETFROM:-0300
TZOFFSETTO:-0200
END:DAYLIGHT
END:VTIMEZONE
END:VCALENDAR
