BEGIN:VCALENDAR
VERSION:2.0
PRODID:-//Plone.org//NONSGML plone.app.event//EN
X-WR-TIMEZONE:America/Sao_Paulo
BEGIN:VEVENT
SUMMARY:Evento - Programa de Pós-graduação em Matemática (UFMG) em [ O
 utros espacos]
DTSTART;TZID=America/Sao_Paulo;VALUE=DATE-TIME:20230329T163000
DTEND;TZID=America/Sao_Paulo;VALUE=DATE-TIME:20230329T210000
DTSTAMP;VALUE=DATE-TIME:20260421T163235Z
UID:3f5a8cfc5bfe43edb305b2e6b4f111a5@150.164.76.86:8080
CREATED;VALUE=DATE-TIME:20230227T181652Z
DESCRIPTION:<p>Solenidade destinada para celebração do conceito 7 obtido
  pelo PGMAT-UFMG na última avaliação da CAPES. Os locais solicitados pa
 ra reserva são o AUDITÓRIO B101/102 e a CANTINA do CAD3. Teremos a parti
 cipação dos pro-reitores de pós-graduação\, diretor do ICEx\, docente
 s e discentes do departamento de matemática da UFMG. Será apresentada um
 a palestra sobre a evolução do PGMAT-UFMG ao longo dos anos\, sendo nece
 ssário computador e equipamento de projeção. Após a solenidade haverá
  um coquetel para todos os participantes no espaço da CANTINA.</p>
LAST-MODIFIED;VALUE=DATE-TIME:20230227T191259Z
URL:http://150.164.76.86:8080/cac/agenda/2393945942399366649
END:VEVENT
BEGIN:VTIMEZONE
TZID:America/Sao_Paulo
X-LIC-LOCATION:America/Sao_Paulo
BEGIN:STANDARD
DTSTART;VALUE=DATE-TIME:20230225T230000
TZNAME:BRT
TZOFFSETFROM:-0200
TZOFFSETTO:-0300
END:STANDARD
END:VTIMEZONE
END:VCALENDAR
