BEGIN:VCALENDAR
VERSION:2.0
PRODID:-//Plone.org//NONSGML plone.app.event//EN
X-WR-TIMEZONE:America/Sao_Paulo
BEGIN:VEVENT
SUMMARY:Festival de Verão UFMG em [ Auditorio da Reitoria]
DTSTART;TZID=America/Sao_Paulo;VALUE=DATE-TIME:20250319T070000
DTEND;TZID=America/Sao_Paulo;VALUE=DATE-TIME:20250327T190000
DTSTAMP;VALUE=DATE-TIME:20260419T120040Z
UID:2cd7ad03e1c14058bc002599739182d9@150.164.76.86:8080
CREATED;VALUE=DATE-TIME:20241121T144945Z
DESCRIPTION:<p>Som e técnicos.</p>
LAST-MODIFIED;VALUE=DATE-TIME:20250310T192824Z
URL:http://150.164.76.86:8080/cac/agenda/2382007354290017344
END:VEVENT
BEGIN:VTIMEZONE
TZID:America/Sao_Paulo
X-LIC-LOCATION:America/Sao_Paulo
BEGIN:STANDARD
DTSTART;VALUE=DATE-TIME:20250215T230000
TZNAME:BRT
TZOFFSETFROM:-0200
TZOFFSETTO:-0300
END:STANDARD
END:VTIMEZONE
END:VCALENDAR
