BEGIN:VCALENDAR
VERSION:2.0
PRODID:-//Plone.org//NONSGML plone.app.event//EN
X-WR-TIMEZONE:America/Sao_Paulo
BEGIN:VEVENT
SUMMARY:Quarta doze e trinta em [ Arena da praça de serviços]
DTSTART;TZID=America/Sao_Paulo;VALUE=DATE-TIME:20241204T090000
DTEND;TZID=America/Sao_Paulo;VALUE=DATE-TIME:20241204T140000
DTSTAMP;VALUE=DATE-TIME:20260419T163755Z
UID:c65e0529020f499bbdac7bc4b8782494@150.164.76.86:8080
CREATED;VALUE=DATE-TIME:20241121T151204Z
DESCRIPTION:Demanda técnica ainda a receber
LAST-MODIFIED;VALUE=DATE-TIME:20241205T121708Z
URL:http://150.164.76.86:8080/cac/agenda/2374719388986695025
END:VEVENT
BEGIN:VTIMEZONE
TZID:America/Sao_Paulo
X-LIC-LOCATION:America/Sao_Paulo
BEGIN:DAYLIGHT
DTSTART;VALUE=DATE-TIME:20241020T010000
TZNAME:BRST
TZOFFSETFROM:-0300
TZOFFSETTO:-0200
END:DAYLIGHT
END:VTIMEZONE
END:VCALENDAR
