BEGIN:VCALENDAR
VERSION:2.0
PRODID:-//Plone.org//NONSGML plone.app.event//EN
X-WR-TIMEZONE:America/Sao_Paulo
BEGIN:VEVENT
SUMMARY:XIV Torneio de Xadrez DCE-UFMG em [ Arena da praça de serviços]
DTSTART;TZID=America/Sao_Paulo;VALUE=DATE-TIME:20240420T120000
DTEND;TZID=America/Sao_Paulo;VALUE=DATE-TIME:20240420T170000
DTSTAMP;VALUE=DATE-TIME:20260420T044321Z
UID:9d556ea279a44031bedd964b9f390b16@150.164.76.86:8080
CREATED;VALUE=DATE-TIME:20240328T124717Z
DESCRIPTION:Não haverá necessidade de nenhum equipamento fornecido pela 
 CAC. Esta solicitação será de antecipação do evento agendado para o d
 ia 27.
LAST-MODIFIED;VALUE=DATE-TIME:20240328T145952Z
URL:http://150.164.76.86:8080/cac/agenda/2365141908590076104
END:VEVENT
BEGIN:VTIMEZONE
TZID:America/Sao_Paulo
X-LIC-LOCATION:America/Sao_Paulo
BEGIN:STANDARD
DTSTART;VALUE=DATE-TIME:20240217T230000
TZNAME:BRT
TZOFFSETFROM:-0200
TZOFFSETTO:-0300
END:STANDARD
END:VTIMEZONE
END:VCALENDAR
