BEGIN:VCALENDAR
VERSION:2.0
PRODID:-//Plone.org//NONSGML plone.app.event//EN
X-WR-TIMEZONE:America/Sao_Paulo
BEGIN:VEVENT
SUMMARY:PICADERRÓ em [ Arena da praça de serviços]
DTSTART;TZID=America/Sao_Paulo;VALUE=DATE-TIME:20230614T173000
DTEND;TZID=America/Sao_Paulo;VALUE=DATE-TIME:20230614T190000
DTSTAMP;VALUE=DATE-TIME:20260421T121645Z
UID:8468909a986b41459d9e30491a0c821a@150.164.76.86:8080
CREATED;VALUE=DATE-TIME:20230331T020817Z
DESCRIPTION:Uso de equipamentos próprios.
LAST-MODIFIED;VALUE=DATE-TIME:20230331T135547Z
URL:http://150.164.76.86:8080/cac/agenda/2278902971132110421
END:VEVENT
BEGIN:VTIMEZONE
TZID:America/Sao_Paulo
X-LIC-LOCATION:America/Sao_Paulo
BEGIN:STANDARD
DTSTART;VALUE=DATE-TIME:20230225T230000
TZNAME:BRT
TZOFFSETFROM:-0200
TZOFFSETTO:-0300
END:STANDARD
END:VTIMEZONE
END:VCALENDAR
