BEGIN:VCALENDAR
VERSION:2.0
PRODID:-//Plone.org//NONSGML plone.app.event//EN
X-WR-TIMEZONE:America/Sao_Paulo
BEGIN:VEVENT
SUMMARY:Outorga do título de Professor Emérito ao Professor Israel Vains
 encher em [ Outros espacos]
DTSTART;TZID=America/Sao_Paulo;VALUE=DATE-TIME:20240515T180000
DTEND;TZID=America/Sao_Paulo;VALUE=DATE-TIME:20240515T200000
DTSTAMP;VALUE=DATE-TIME:20260420T031849Z
UID:aac3621784b442d6b5cda933c3a16e09@150.164.76.86:8080
CREATED;VALUE=DATE-TIME:20240429T184310Z
DESCRIPTION:<p>Outorga do título de Professor Emérito ao Professor Israe
 l Vainsencher</p>
LAST-MODIFIED;VALUE=DATE-TIME:20240429T184323Z
URL:http://150.164.76.86:8080/cac/agenda/2250704622832111049
END:VEVENT
BEGIN:VTIMEZONE
TZID:America/Sao_Paulo
X-LIC-LOCATION:America/Sao_Paulo
BEGIN:STANDARD
DTSTART;VALUE=DATE-TIME:20240217T230000
TZNAME:BRT
TZOFFSETFROM:-0200
TZOFFSETTO:-0300
END:STANDARD
END:VTIMEZONE
END:VCALENDAR
