BEGIN:VCALENDAR
VERSION:2.0
PRODID:-//Plone.org//NONSGML plone.app.event//EN
X-WR-TIMEZONE:America/Sao_Paulo
BEGIN:VEVENT
SUMMARY:Formação com os Gestores PDDE-Programa Dinheiro Direto na Escola
  em [ Auditório B101/102 do CAD 3]
DTSTART;TZID=America/Sao_Paulo;VALUE=DATE-TIME:20220916T080000
DTEND;TZID=America/Sao_Paulo;VALUE=DATE-TIME:20220916T120000
DTSTAMP;VALUE=DATE-TIME:20260422T012348Z
UID:f7dbe2e8caf343c7a5fdf94be0ad6fb8@150.164.76.86:8080
CREATED;VALUE=DATE-TIME:20220823T143245Z
DESCRIPTION:<p>Formação presencial - PDDE 2022 - CECAMPE sudeste/UFU-UFM
 G. Serão recebidos gestores das Escolas Municipais de BH. Com a previsão
  de público de 300 pessoas\, necessita-se dos auditórios 101 e 102 do CA
 D3\, no formato conjugado. Prevê-se projeções e utilização de microfo
 nes. OBS: CAC já informou a indisponibilidade de técnicos em audiovisual
  para este atendimento.</p>
LAST-MODIFIED;VALUE=DATE-TIME:20230111T201114Z
URL:http://150.164.76.86:8080/cac/agenda/2244900549028509764
END:VEVENT
BEGIN:VTIMEZONE
TZID:America/Sao_Paulo
X-LIC-LOCATION:America/Sao_Paulo
BEGIN:STANDARD
DTSTART;VALUE=DATE-TIME:20220219T230000
TZNAME:BRT
TZOFFSETFROM:-0200
TZOFFSETTO:-0300
END:STANDARD
END:VTIMEZONE
END:VCALENDAR
