BEGIN:VCALENDAR
VERSION:2.0
PRODID:-//Plone.org//NONSGML plone.app.event//EN
X-WR-TIMEZONE:America/Sao_Paulo
BEGIN:VEVENT
SUMMARY:Palestra Candence em [ Auditório B107 do CAD3]
DTSTART;TZID=America/Sao_Paulo;VALUE=DATE-TIME:20221130T080000
DTEND;TZID=America/Sao_Paulo;VALUE=DATE-TIME:20221130T120000
DTSTAMP;VALUE=DATE-TIME:20260421T220832Z
UID:ab92e4c0a7f8496a9b71fde74da9f46a@150.164.76.86:8080
CREATED;VALUE=DATE-TIME:20221123T122430Z
DESCRIPTION:<p>- Palestra para cerca de 120 pessoas - Será necessário us
 o de microfone\, som e retroprojetor</p>
LAST-MODIFIED;VALUE=DATE-TIME:20221129T185626Z
URL:http://150.164.76.86:8080/cac/agenda/2221385384651711243
END:VEVENT
BEGIN:VTIMEZONE
TZID:America/Sao_Paulo
X-LIC-LOCATION:America/Sao_Paulo
BEGIN:DAYLIGHT
DTSTART;VALUE=DATE-TIME:20221016T010000
TZNAME:BRST
TZOFFSETFROM:-0300
TZOFFSETTO:-0200
END:DAYLIGHT
END:VTIMEZONE
END:VCALENDAR
