BEGIN:VCALENDAR
VERSION:2.0
PRODID:-//Plone.org//NONSGML plone.app.event//EN
X-WR-TIMEZONE:America/Sao_Paulo
BEGIN:VEVENT
SUMMARY:Reunião de Encontro dos GTs - DAST em [ Auditorio A102 do Cad 2]
DTSTART;TZID=America/Sao_Paulo;VALUE=DATE-TIME:20240821T140000
DTEND;TZID=America/Sao_Paulo;VALUE=DATE-TIME:20240821T183000
DTSTAMP;VALUE=DATE-TIME:20260419T234814Z
UID:81dbbf2c922640da96e7443e05db7764@150.164.76.86:8080
CREATED;VALUE=DATE-TIME:20240809T125050Z
DESCRIPTION:<p>Datashow\, internet</p>
LAST-MODIFIED;VALUE=DATE-TIME:20240819T132136Z
URL:http://150.164.76.86:8080/cac/agenda/2218423974001824735
END:VEVENT
BEGIN:VTIMEZONE
TZID:America/Sao_Paulo
X-LIC-LOCATION:America/Sao_Paulo
BEGIN:STANDARD
DTSTART;VALUE=DATE-TIME:20240217T230000
TZNAME:BRT
TZOFFSETFROM:-0200
TZOFFSETTO:-0300
END:STANDARD
END:VTIMEZONE
END:VCALENDAR
