BEGIN:VCALENDAR
VERSION:2.0
PRODID:-//Plone.org//NONSGML plone.app.event//EN
X-WR-TIMEZONE:America/Sao_Paulo
BEGIN:VEVENT
SUMMARY:Confraternização universal em [ Auditorio da Reitoria Saguao da 
 Reitoria Gramado da Reitoria Arena da praça de serviços Entorno da Praca
  de Servicos Auditorio Nobre do CAD 1 Auditorio 1A do CAD 1 Auditorio 2A d
 o CAD 1 Auditorio A102 do Cad 2 Auditorio A104 do Cad 2 Auditório B101/10
 2 do CAD 3 Auditório B301 do CAD 3 Auditório B302 do CAD 3 Auditório B1
 07 do CAD3 Outros espacos]
DTSTART;TZID=America/Sao_Paulo;VALUE=DATE-TIME:20230101T080000
DTEND;TZID=America/Sao_Paulo;VALUE=DATE-TIME:20230101T220000
DTSTAMP;VALUE=DATE-TIME:20260421T175459Z
UID:5a64b735a6d949abba85a1aa4100266f@150.164.76.86:8080
CREATED;VALUE=DATE-TIME:20221109T130929Z
DESCRIPTION:<p>Feriado</p>
LAST-MODIFIED;VALUE=DATE-TIME:20230111T201059Z
URL:http://150.164.76.86:8080/cac/agenda/2214109011837175363
END:VEVENT
BEGIN:VTIMEZONE
TZID:America/Sao_Paulo
X-LIC-LOCATION:America/Sao_Paulo
BEGIN:DAYLIGHT
DTSTART;VALUE=DATE-TIME:20221016T010000
TZNAME:BRST
TZOFFSETFROM:-0300
TZOFFSETTO:-0200
END:DAYLIGHT
END:VTIMEZONE
END:VCALENDAR
