BEGIN:VCALENDAR
VERSION:2.0
PRODID:-//Plone.org//NONSGML plone.app.event//EN
X-WR-TIMEZONE:America/Sao_Paulo
BEGIN:VEVENT
SUMMARY:Mostra de Internacionalização UFMG em [ Auditorio A102 do Cad 2]
DTSTART;TZID=America/Sao_Paulo;VALUE=DATE-TIME:20230516T080000
DTEND;TZID=America/Sao_Paulo;VALUE=DATE-TIME:20230517T180000
DTSTAMP;VALUE=DATE-TIME:20260421T133926Z
UID:62d2bce65689484e91bfa984c52d6935@150.164.76.86:8080
CREATED;VALUE=DATE-TIME:20221222T125348Z
DESCRIPTION:Será realizado um mini-curso do setor de mobilidade internaci
 onal da DRI para os estudantes da UFMG.\nSerão ofertadas duas turmas manh
 ã e tarde.\nDias 15 e 16 de maio de 2023. Parte da programação do event
 o : Mostra de Internacionalização da UFMG.
LAST-MODIFIED;VALUE=DATE-TIME:20230110T135851Z
URL:http://150.164.76.86:8080/cac/agenda/2202155791401643333
END:VEVENT
BEGIN:VTIMEZONE
TZID:America/Sao_Paulo
X-LIC-LOCATION:America/Sao_Paulo
BEGIN:STANDARD
DTSTART;VALUE=DATE-TIME:20230225T230000
TZNAME:BRT
TZOFFSETFROM:-0200
TZOFFSETTO:-0300
END:STANDARD
END:VTIMEZONE
END:VCALENDAR
