BEGIN:VCALENDAR
VERSION:2.0
PRODID:-//Plone.org//NONSGML plone.app.event//EN
X-WR-TIMEZONE:America/Sao_Paulo
BEGIN:VEVENT
SUMMARY:Reunião Sala de Sessões em [ Outros espacos]
DTSTART;TZID=America/Sao_Paulo;VALUE=DATE-TIME:20221110T140000
DTEND;TZID=America/Sao_Paulo;VALUE=DATE-TIME:20221110T180000
DTSTAMP;VALUE=DATE-TIME:20260421T221850Z
UID:620291e374cf47dfafd977a4e7e80dc0@150.164.76.86:8080
CREATED;VALUE=DATE-TIME:20221104T141008Z
DESCRIPTION:<p>Reunião Conselho Universitário. </p>
LAST-MODIFIED;VALUE=DATE-TIME:20221104T141022Z
URL:http://150.164.76.86:8080/cac/agenda/2200316827535829693
END:VEVENT
BEGIN:VTIMEZONE
TZID:America/Sao_Paulo
X-LIC-LOCATION:America/Sao_Paulo
BEGIN:DAYLIGHT
DTSTART;VALUE=DATE-TIME:20221016T010000
TZNAME:BRST
TZOFFSETFROM:-0300
TZOFFSETTO:-0200
END:DAYLIGHT
END:VTIMEZONE
END:VCALENDAR
