BEGIN:VCALENDAR
VERSION:2.0
PRODID:-//Plone.org//NONSGML plone.app.event//EN
X-WR-TIMEZONE:America/Sao_Paulo
BEGIN:VEVENT
SUMMARY:1ª etapa concurso MPMG em [ Auditorio Nobre do CAD 1 Auditorio 1A
  do CAD 1 Auditorio 2A do CAD 1 Auditorio A104 do Cad 2 Auditório B101/10
 2 do CAD 3 Auditório B106 do CAD3 Auditório B107 do CAD3 Auditório B301
  do CAD 3 Auditório B302 do CAD 3 Outros espacos]
DTSTART;TZID=America/Sao_Paulo;VALUE=DATE-TIME:20230819T070000
DTEND;TZID=America/Sao_Paulo;VALUE=DATE-TIME:20230820T210000
DTSTAMP;VALUE=DATE-TIME:20260421T091218Z
UID:2427e4880bb14a8bad606de2e539dee7@150.164.76.86:8080
CREATED;VALUE=DATE-TIME:20230705T131345Z
DESCRIPTION:<p>1ª etapa concursos MPMG</p>
LAST-MODIFIED;VALUE=DATE-TIME:20230705T131406Z
URL:http://150.164.76.86:8080/cac/agenda/2199665783400391797
END:VEVENT
BEGIN:VTIMEZONE
TZID:America/Sao_Paulo
X-LIC-LOCATION:America/Sao_Paulo
BEGIN:STANDARD
DTSTART;VALUE=DATE-TIME:20230225T230000
TZNAME:BRT
TZOFFSETFROM:-0200
TZOFFSETTO:-0300
END:STANDARD
END:VTIMEZONE
END:VCALENDAR
