BEGIN:VCALENDAR
VERSION:2.0
PRODID:-//Plone.org//NONSGML plone.app.event//EN
X-WR-TIMEZONE:America/Sao_Paulo
BEGIN:VEVENT
SUMMARY:Colação de Grau Oficial FAFICH em [ Auditorio A102 do Cad 2]
DTSTART;TZID=America/Sao_Paulo;VALUE=DATE-TIME:20240201T160000
DTEND;TZID=America/Sao_Paulo;VALUE=DATE-TIME:20240201T220000
DTSTAMP;VALUE=DATE-TIME:20260420T063143Z
UID:97e26f6d3a714642b2877894028dfcc4@150.164.76.86:8080
CREATED;VALUE=DATE-TIME:20231030T142450Z
DESCRIPTION:<p>Colação oficial dos cursos de graduação da FAFICH</p>
LAST-MODIFIED;VALUE=DATE-TIME:20231116T124212Z
URL:http://150.164.76.86:8080/cac/agenda/2185941752845908700
END:VEVENT
BEGIN:VTIMEZONE
TZID:America/Sao_Paulo
X-LIC-LOCATION:America/Sao_Paulo
BEGIN:DAYLIGHT
DTSTART;VALUE=DATE-TIME:20231015T010000
TZNAME:BRST
TZOFFSETFROM:-0300
TZOFFSETTO:-0200
END:DAYLIGHT
END:VTIMEZONE
END:VCALENDAR
