BEGIN:VCALENDAR
VERSION:2.0
PRODID:-//Plone.org//NONSGML plone.app.event//EN
X-WR-TIMEZONE:America/Sao_Paulo
BEGIN:VEVENT
SUMMARY:I Semana de Moda da UFMG  em [ Auditorio A102 do Cad 2 Auditorio A
 104 do Cad 2 Outros espacos]
DTSTART;TZID=America/Sao_Paulo;VALUE=DATE-TIME:20231204T080000
DTEND;TZID=America/Sao_Paulo;VALUE=DATE-TIME:20231206T210000
DTSTAMP;VALUE=DATE-TIME:20260420T102433Z
UID:8aaab24d1f9c4314adac10016ae97f3e@150.164.76.86:8080
CREATED;VALUE=DATE-TIME:20231005T184137Z
DESCRIPTION:<p>I Semana de Moda da UFMG 2 Caixas de som\; 1 Projetor\; 1 T
 elão\; 1 microfone sem fio.</p>
LAST-MODIFIED;VALUE=DATE-TIME:20231124T160048Z
URL:http://150.164.76.86:8080/cac/agenda/2164103899924323131
END:VEVENT
BEGIN:VTIMEZONE
TZID:America/Sao_Paulo
X-LIC-LOCATION:America/Sao_Paulo
BEGIN:DAYLIGHT
DTSTART;VALUE=DATE-TIME:20231015T010000
TZNAME:BRST
TZOFFSETFROM:-0300
TZOFFSETTO:-0200
END:DAYLIGHT
END:VTIMEZONE
END:VCALENDAR
