BEGIN:VCALENDAR
VERSION:2.0
PRODID:-//Plone.org//NONSGML plone.app.event//EN
X-WR-TIMEZONE:America/Sao_Paulo
BEGIN:VEVENT
SUMMARY:ENEM 2023 em [ Auditorio Nobre do CAD 1 Auditorio 1A do CAD 1 Audi
 torio 2A do CAD 1 Auditorio A102 do Cad 2 Auditorio A104 do Cad 2 Auditór
 io B101/102 do CAD 3 Auditório B106 do CAD3 Auditório B107 do CAD3 Audit
 ório B301 do CAD 3 Auditório B302 do CAD 3]
DTSTART;TZID=America/Sao_Paulo;VALUE=DATE-TIME:20231104T070000
DTEND;TZID=America/Sao_Paulo;VALUE=DATE-TIME:20231105T080000
DTSTAMP;VALUE=DATE-TIME:20260420T114407Z
UID:86dd146270c94395abdaa836e42cf1fa@150.164.76.86:8080
CREATED;VALUE=DATE-TIME:20230509T204539Z
DESCRIPTION:<p>BLOQUEIO PARA POSSÍVEL APLICAÇÃO DE PROVAS DO ENEM NOS C
 ADs</p>
LAST-MODIFIED;VALUE=DATE-TIME:20230612T131608Z
URL:http://150.164.76.86:8080/cac/agenda/214936313345221838
END:VEVENT
BEGIN:VTIMEZONE
TZID:America/Sao_Paulo
X-LIC-LOCATION:America/Sao_Paulo
BEGIN:DAYLIGHT
DTSTART;VALUE=DATE-TIME:20231015T010000
TZNAME:BRST
TZOFFSETFROM:-0300
TZOFFSETTO:-0200
END:DAYLIGHT
END:VTIMEZONE
END:VCALENDAR
