BEGIN:VCALENDAR
VERSION:2.0
PRODID:-//Plone.org//NONSGML plone.app.event//EN
X-WR-TIMEZONE:America/Sao_Paulo
BEGIN:VEVENT
SUMMARY:Reunião em [ Outros espacos]
DTSTART;TZID=America/Sao_Paulo;VALUE=DATE-TIME:20240207T100000
DTEND;TZID=America/Sao_Paulo;VALUE=DATE-TIME:20240207T120000
DTSTAMP;VALUE=DATE-TIME:20260420T080914Z
UID:b55b4c6f68364ab89dc20f33bea96d25@150.164.76.86:8080
CREATED;VALUE=DATE-TIME:20240215T210218Z
DESCRIPTION:<p>Reunião Vice Reitor</p>
LAST-MODIFIED;VALUE=DATE-TIME:20240215T210312Z
URL:http://150.164.76.86:8080/cac/agenda/2145815857721209851
END:VEVENT
BEGIN:VTIMEZONE
TZID:America/Sao_Paulo
X-LIC-LOCATION:America/Sao_Paulo
BEGIN:DAYLIGHT
DTSTART;VALUE=DATE-TIME:20231015T010000
TZNAME:BRST
TZOFFSETFROM:-0300
TZOFFSETTO:-0200
END:DAYLIGHT
END:VTIMEZONE
END:VCALENDAR
