BEGIN:VCALENDAR
VERSION:2.0
PRODID:-//Plone.org//NONSGML plone.app.event//EN
X-WR-TIMEZONE:America/Sao_Paulo
BEGIN:VEVENT
SUMMARY:Illumina Day em [ Auditorio Nobre do CAD 1]
DTSTART;TZID=America/Sao_Paulo;VALUE=DATE-TIME:20230419T160000
DTEND;TZID=America/Sao_Paulo;VALUE=DATE-TIME:20230419T190000
DTSTAMP;VALUE=DATE-TIME:20260421T152548Z
UID:821a4b7bd32f4c6b97e94440a6fcde2d@150.164.76.86:8080
CREATED;VALUE=DATE-TIME:20230209T165241Z
DESCRIPTION:<p>Illumina Day é um evento focado no Next Generation Sequenc
 ing (NGS) com ênfase em seu uso para fins de diagnóstico e pesquisa bás
 ica nos diversos campos da biologia. Pesquisadores compartilharão suas ex
 periências e histórias de sucesso em NGS. Ao mesmo tempo\, os especialis
 tas de aplicação da empresa lançarão uma luz sobre novos produtos e ap
 licações para melhor atender a pesquisa e diagnóstico baseados em genô
 mica. Pública alvo: Veterinários\, Biomédicos\, Bioinformáticos\, Bió
 logos e áreas afins.</p>
LAST-MODIFIED;VALUE=DATE-TIME:20230417T122633Z
URL:http://150.164.76.86:8080/cac/agenda/2143880190890792755
END:VEVENT
BEGIN:VTIMEZONE
TZID:America/Sao_Paulo
X-LIC-LOCATION:America/Sao_Paulo
BEGIN:STANDARD
DTSTART;VALUE=DATE-TIME:20230225T230000
TZNAME:BRT
TZOFFSETFROM:-0200
TZOFFSETTO:-0300
END:STANDARD
END:VTIMEZONE
END:VCALENDAR
