BEGIN:VCALENDAR
VERSION:2.0
PRODID:-//Plone.org//NONSGML plone.app.event//EN
X-WR-TIMEZONE:America/Sao_Paulo
BEGIN:VEVENT
SUMMARY:ASSEMBLEIA DO SINDIFES em [ Auditório B107 do CAD3]
DTSTART;TZID=America/Sao_Paulo;VALUE=DATE-TIME:20240515T080000
DTEND;TZID=America/Sao_Paulo;VALUE=DATE-TIME:20240515T170000
DTSTAMP;VALUE=DATE-TIME:20260420T031849Z
UID:c802263902874ede8d566b51d8e4a5a4@150.164.76.86:8080
CREATED;VALUE=DATE-TIME:20240503T141139Z
DESCRIPTION:<p>assembleia</p>
LAST-MODIFIED;VALUE=DATE-TIME:20240506T143240Z
URL:http://150.164.76.86:8080/cac/agenda/2121236535097044962
END:VEVENT
BEGIN:VTIMEZONE
TZID:America/Sao_Paulo
X-LIC-LOCATION:America/Sao_Paulo
BEGIN:STANDARD
DTSTART;VALUE=DATE-TIME:20240217T230000
TZNAME:BRT
TZOFFSETFROM:-0200
TZOFFSETTO:-0300
END:STANDARD
END:VTIMEZONE
END:VCALENDAR
