BEGIN:VCALENDAR
VERSION:2.0
PRODID:-//Plone.org//NONSGML plone.app.event//EN
X-WR-TIMEZONE:America/Sao_Paulo
BEGIN:VEVENT
SUMMARY:Cerimônia de premiação da Olimpíada Mineira de Química - Proj
 eto de Extensão em [ Auditorio Nobre do CAD 1]
DTSTART;TZID=America/Sao_Paulo;VALUE=DATE-TIME:20231207T130000
DTEND;TZID=America/Sao_Paulo;VALUE=DATE-TIME:20231207T180000
DTSTAMP;VALUE=DATE-TIME:20260420T114655Z
UID:963200f300544b33a704978de78936e0@150.164.76.86:8080
CREATED;VALUE=DATE-TIME:20231024T160115Z
DESCRIPTION:<p>A reserva será para realização da cerimônia de premiaç
 ão da Olimpíada Mineira de Química. Além disso\, será realizada a ent
 rega da premiação das seguintes olimpíadas: Olimpíada Nacional de Ciê
 ncias\, Olimpiada Brasileira de Química\, Olimpíada Brasileira de Quími
 ca Júnior. A cerimônia encerra as atividades referentes ao projeto de ex
 tensão do ano de 2023. Espera-se a presença de estudantes e professores\
 , assim como algum familiar dos estudantes.</p>
LAST-MODIFIED;VALUE=DATE-TIME:20231026T122821Z
URL:http://150.164.76.86:8080/cac/agenda/2120265613217458420
END:VEVENT
BEGIN:VTIMEZONE
TZID:America/Sao_Paulo
X-LIC-LOCATION:America/Sao_Paulo
BEGIN:DAYLIGHT
DTSTART;VALUE=DATE-TIME:20231015T010000
TZNAME:BRST
TZOFFSETFROM:-0300
TZOFFSETTO:-0200
END:DAYLIGHT
END:VTIMEZONE
END:VCALENDAR
