BEGIN:VCALENDAR
VERSION:2.0
PRODID:-//Plone.org//NONSGML plone.app.event//EN
X-WR-TIMEZONE:America/Sao_Paulo
BEGIN:VEVENT
SUMMARY:II CITAM (Congresso Internacional de Tempo\, Aspecto e Modalidade)
  em [ Auditorio A102 do Cad 2]
DTSTART;TZID=America/Sao_Paulo;VALUE=DATE-TIME:20200924T073000
DTEND;TZID=America/Sao_Paulo;VALUE=DATE-TIME:20200925T210000
DTSTAMP;VALUE=DATE-TIME:20260424T184120Z
UID:2875b87be1734afbb3f2390c38fe7b60@150.164.76.86:8080
CREATED;VALUE=DATE-TIME:20200130T175959Z
DESCRIPTION:O II Congresso Internacional de Tempo\, Aspecto e Modo busca r
 eunir pesquisas sobre as categorias de tempo\, modo e aspecto (TAM) das l
 ínguas naturais nas mais diversas perspectivas de análise. O CITAM tamb
 ém se propõe como um lugar de discussão de temas como: aspectos sintát
 icos\, semânticos e pragmáticos das categorias TAM\, aspectos discursivo
 s dessas categorias\, propriedades formais\, funcionais e cognitivas de TA
 M\, aquisição dessas categorias em primeira e segunda línguas\, process
 amento gramatical e discursivo\, entre outros.\n\nPROGRAMAÇÃO GERAL \n24
  DE SETEMBRO\n07h–08h               Credenciamento (HALL DO CAD 2)\n07h3
 0                   Cerimônia de abertura (AUDITÓRIO A102 - CAD 2)\n08h
 –09h30           Conferência I – Prof. Dr. Ataliba T. de Castilho (Un
 icamp)\n09h30–10h           Coffee break / Pôster (HALL DO CAD 2)\n10h
 –12h30           Sessões de comunicação (FALE)\n\n12h30–14h        
    Almoço\n\n14h–16h               Mesa redonda TAM (AUDITÓRIO A102 - 
 CAD 2)\nProf. Dr. José Luiz Fiorin (USP)\; \nProf. Dr. Luiz Carlos Travag
 lia (UFU)\;\nProfa. Dra. Marize Mattos Dall’Aglio Hattnher (UNESP-Rio Pr
 eto)\n\n16h–16h30           Coffee break / Lançamento de livro (HALL DO
  CAD 2)\n\n16h30–19h           Sessões de comunicação (até 3 salas c
 om até 6 trabalhos)\n\n19h–20h30          Conferência II – Profa. Dr
 a. Maria Luiza Monteiro Sales Coroa (UnB) (AUDITÓRIO A102 - CAD 2)\n\n\n2
 5 DE SETEMBRO\n08h–09h30           Conferência III – Profa. Dra. Laur
 a Michaelis (CU\, Boulder) (AUDITÓRIO A102 - CAD 2)\n09h30–10h         
   Coffee break / Pôster (HALL DO CAD 2)\n10h–12h30           Sessões d
 e comunicação (FALE)\n\n12h30–14h           Almoço\n\n14h–17h      
          Minicursos (FALE)\n                               Aspecto Lexical
  – Profa. Dra. Márcia Cançado (UFMG)\n                               A
 specto Verbal – Profa. Dra. Adriana Leitão Martins (UFRJ)\n            
                    Modalização – Profa. Dra. Marize Mattos Dall’Agli
 o Hattnher (UNESP)\n                               Tempo – Profa. Dra. M
 aria Luiza Monteiro Sales Corôa (UnB)\n\n17h-17h30            Coffee brea
 k / Pôster \n\n17h30–19h           Sessões de comunicação\n\n19h–2
 0h30           Conferência IV – Profa. Dra. Maria Helena de Moura Neves
  (UPM\; UNESP/CNPq) (AUDITÓRIO A102 - CAD 2)
LAST-MODIFIED;VALUE=DATE-TIME:20200205T180745Z
URL:http://150.164.76.86:8080/cac/agenda/2096677608248439814
END:VEVENT
BEGIN:VTIMEZONE
TZID:America/Sao_Paulo
X-LIC-LOCATION:America/Sao_Paulo
BEGIN:STANDARD
DTSTART;VALUE=DATE-TIME:20200215T230000
TZNAME:BRT
TZOFFSETFROM:-0200
TZOFFSETTO:-0300
END:STANDARD
END:VTIMEZONE
END:VCALENDAR
