BEGIN:VCALENDAR
VERSION:2.0
PRODID:-//Plone.org//NONSGML plone.app.event//EN
X-WR-TIMEZONE:America/Sao_Paulo
BEGIN:VEVENT
SUMMARY:REUNIÃO REITORIA PRORH CPPD DEPARTAMENTOS em [ Auditorio da Reito
 ria]
DTSTART;TZID=America/Sao_Paulo;VALUE=DATE-TIME:20220929T140000
DTEND;TZID=America/Sao_Paulo;VALUE=DATE-TIME:20220929T180000
DTSTAMP;VALUE=DATE-TIME:20260422T012424Z
UID:d0f2e4b9c3904b4795e49f7ca5179b8e@150.164.76.86:8080
CREATED;VALUE=DATE-TIME:20220922T155950Z
DESCRIPTION:<p>Reunião entre a PRORH\, CPPD\, Diretores de Unidades Acad
 êmicas e Chefes de Departamentos\, com a participação da Reitora. Serã
 o necessários microfones e data show. Informamos que o Sr. Paulo da FACE 
 (Seção de Serviços Gerais) irá nos auxiliar no suporte do audiovisual.
 </p>
LAST-MODIFIED;VALUE=DATE-TIME:20220922T183845Z
URL:http://150.164.76.86:8080/cac/agenda/2091029472363126793
END:VEVENT
BEGIN:VTIMEZONE
TZID:America/Sao_Paulo
X-LIC-LOCATION:America/Sao_Paulo
BEGIN:STANDARD
DTSTART;VALUE=DATE-TIME:20220219T230000
TZNAME:BRT
TZOFFSETFROM:-0200
TZOFFSETTO:-0300
END:STANDARD
END:VTIMEZONE
END:VCALENDAR
