BEGIN:VCALENDAR
VERSION:2.0
PRODID:-//Plone.org//NONSGML plone.app.event//EN
X-WR-TIMEZONE:America/Sao_Paulo
BEGIN:VEVENT
SUMMARY:Aula inaugural Prograd em [ Auditorio Nobre do CAD 1]
DTSTART;TZID=America/Sao_Paulo;VALUE=DATE-TIME:20230331T140000
DTEND;TZID=America/Sao_Paulo;VALUE=DATE-TIME:20230331T153000
DTSTAMP;VALUE=DATE-TIME:20260421T164119Z
UID:f5788f5de70a4dc8bc00bfef518f28a4@agenda.cac.ufmg.br
CREATED;VALUE=DATE-TIME:20230314T123840Z
DESCRIPTION:<p>Atendimento básico de audiovisual da CAC</p>
LAST-MODIFIED;VALUE=DATE-TIME:20230329T130009Z
URL:http://150.164.76.86:8080/cac/agenda/2082608506681717862
END:VEVENT
BEGIN:VTIMEZONE
TZID:America/Sao_Paulo
X-LIC-LOCATION:America/Sao_Paulo
BEGIN:STANDARD
DTSTART;VALUE=DATE-TIME:20230225T230000
TZNAME:BRT
TZOFFSETFROM:-0200
TZOFFSETTO:-0300
END:STANDARD
END:VTIMEZONE
END:VCALENDAR
