BEGIN:VCALENDAR
VERSION:2.0
PRODID:-//Plone.org//NONSGML plone.app.event//EN
X-WR-TIMEZONE:America/Sao_Paulo
BEGIN:VEVENT
SUMMARY:Seminário Prof Francisco Iglesias em [ Outros espacos]
DTSTART;TZID=America/Sao_Paulo;VALUE=DATE-TIME:20230427T093000
DTEND;TZID=America/Sao_Paulo;VALUE=DATE-TIME:20230427T113000
DTSTAMP;VALUE=DATE-TIME:20260421T145900Z
UID:0af3e2475d3d4104a80769a14d4b23ac@150.164.76.86:8080
CREATED;VALUE=DATE-TIME:20230418T151020Z
DESCRIPTION:<p>Presença da Reitora</p>
LAST-MODIFIED;VALUE=DATE-TIME:20230418T151311Z
URL:http://150.164.76.86:8080/cac/agenda/2060693433364286381
END:VEVENT
BEGIN:VTIMEZONE
TZID:America/Sao_Paulo
X-LIC-LOCATION:America/Sao_Paulo
BEGIN:STANDARD
DTSTART;VALUE=DATE-TIME:20230225T230000
TZNAME:BRT
TZOFFSETFROM:-0200
TZOFFSETTO:-0300
END:STANDARD
END:VTIMEZONE
END:VCALENDAR
