BEGIN:VCALENDAR
VERSION:2.0
PRODID:-//Plone.org//NONSGML plone.app.event//EN
X-WR-TIMEZONE:America/Sao_Paulo
BEGIN:VEVENT
SUMMARY:Concurso - reserva em [ Auditorio Nobre do CAD 1 Auditorio 1A do C
 AD 1 Auditorio 2A do CAD 1 Auditorio A102 do Cad 2 Auditorio A104 do Cad 2
  Auditório B301 do CAD 3 Auditório B101/102 do CAD 3 Auditório B302 do 
 CAD 3 Auditório B106 do CAD3 Auditório B107 do CAD3]
DTSTART;TZID=America/Sao_Paulo;VALUE=DATE-TIME:20230325T060000
DTEND;TZID=America/Sao_Paulo;VALUE=DATE-TIME:20230326T200000
DTSTAMP;VALUE=DATE-TIME:20260421T163224Z
UID:60631ce5f3d845508be549b75f01e841@150.164.76.86:8080
CREATED;VALUE=DATE-TIME:20221025T132233Z
DESCRIPTION:<p><span><span>concurso público da UFMG Edital 1724/2022</spa
 n></span></p>
LAST-MODIFIED;VALUE=DATE-TIME:20230111T201059Z
URL:http://150.164.76.86:8080/cac/agenda/2053661706034391393
END:VEVENT
BEGIN:VTIMEZONE
TZID:America/Sao_Paulo
X-LIC-LOCATION:America/Sao_Paulo
BEGIN:STANDARD
DTSTART;VALUE=DATE-TIME:20230225T230000
TZNAME:BRT
TZOFFSETFROM:-0200
TZOFFSETTO:-0300
END:STANDARD
END:VTIMEZONE
END:VCALENDAR
