BEGIN:VCALENDAR
VERSION:2.0
PRODID:-//Plone.org//NONSGML plone.app.event//EN
X-WR-TIMEZONE:America/Sao_Paulo
BEGIN:VEVENT
SUMMARY:Seminário & Aula Inaugural da Formação Transversal em Agricultu
 ra Familiar e Agroecologia da UFMG (Crise ambiental e direitos indígenas)
  em [ Auditorio da Reitoria]
DTSTART;TZID=America/Sao_Paulo;VALUE=DATE-TIME:20240409T140000
DTEND;TZID=America/Sao_Paulo;VALUE=DATE-TIME:20240409T180000
DTSTAMP;VALUE=DATE-TIME:20260420T045722Z
UID:ffa135ddaac44918b954f6c9954af37a@150.164.76.86:8080
CREATED;VALUE=DATE-TIME:20240322T173502Z
DESCRIPTION:<p>O evento ainda está sendo planejado. Em breve enviaremos o
  briefing. O evento é organizado pela PROEX.</p>
LAST-MODIFIED;VALUE=DATE-TIME:20240401T150632Z
URL:http://150.164.76.86:8080/cac/agenda/2049665691083735430
END:VEVENT
BEGIN:VTIMEZONE
TZID:America/Sao_Paulo
X-LIC-LOCATION:America/Sao_Paulo
BEGIN:STANDARD
DTSTART;VALUE=DATE-TIME:20240217T230000
TZNAME:BRT
TZOFFSETFROM:-0200
TZOFFSETTO:-0300
END:STANDARD
END:VTIMEZONE
END:VCALENDAR
