BEGIN:VCALENDAR
VERSION:2.0
PRODID:-//Plone.org//NONSGML plone.app.event//EN
X-WR-TIMEZONE:America/Sao_Paulo
BEGIN:VEVENT
SUMMARY:Ao cair da tarde - Espetáculo Além do Rio em [ Outros espacos]
DTSTART;TZID=America/Sao_Paulo;VALUE=DATE-TIME:20221110T150000
DTEND;TZID=America/Sao_Paulo;VALUE=DATE-TIME:20221110T190000
DTSTAMP;VALUE=DATE-TIME:20260421T221705Z
UID:bfaaddb19ff94b76a51bb5a20523f5ad@150.164.76.86:8080
CREATED;VALUE=DATE-TIME:20221104T133915Z
DESCRIPTION:Espetáculo Teatral do TU com sonorização própria.
LAST-MODIFIED;VALUE=DATE-TIME:20221108T192936Z
URL:http://150.164.76.86:8080/cac/agenda/2046210675481752045
END:VEVENT
BEGIN:VTIMEZONE
TZID:America/Sao_Paulo
X-LIC-LOCATION:America/Sao_Paulo
BEGIN:DAYLIGHT
DTSTART;VALUE=DATE-TIME:20221016T010000
TZNAME:BRST
TZOFFSETFROM:-0300
TZOFFSETTO:-0200
END:DAYLIGHT
END:VTIMEZONE
END:VCALENDAR
