BEGIN:VCALENDAR
VERSION:2.0
PRODID:-//Plone.org//NONSGML plone.app.event//EN
X-WR-TIMEZONE:America/Sao_Paulo
BEGIN:VEVENT
SUMMARY:EXAME CELPE-BRAS em [ Auditorio A102 do Cad 2]
DTSTART;TZID=America/Sao_Paulo;VALUE=DATE-TIME:20230425T080000
DTEND;TZID=America/Sao_Paulo;VALUE=DATE-TIME:20230425T130000
DTSTAMP;VALUE=DATE-TIME:20260421T163407Z
UID:d31982c9389b4b599393e947f9c48b64@150.164.76.86:8080
CREATED;VALUE=DATE-TIME:20230207T140042Z
DESCRIPTION:<p>Para aplicação dessa prova precisamos de data show\, som 
 e microfone.</p>
LAST-MODIFIED;VALUE=DATE-TIME:20230411T121756Z
URL:http://150.164.76.86:8080/cac/agenda/2045440563599073211
END:VEVENT
BEGIN:VTIMEZONE
TZID:America/Sao_Paulo
X-LIC-LOCATION:America/Sao_Paulo
BEGIN:STANDARD
DTSTART;VALUE=DATE-TIME:20230225T230000
TZNAME:BRT
TZOFFSETFROM:-0200
TZOFFSETTO:-0300
END:STANDARD
END:VTIMEZONE
END:VCALENDAR
