BEGIN:VCALENDAR
VERSION:2.0
PRODID:-//Plone.org//NONSGML plone.app.event//EN
X-WR-TIMEZONE:America/Sao_Paulo
BEGIN:VEVENT
SUMMARY:Programa de Educação para Aposentadoria em []
DTSTART;TZID=America/Sao_Paulo;VALUE=DATE-TIME:20200528T080000
DTEND;TZID=America/Sao_Paulo;VALUE=DATE-TIME:20200528T120000
DTSTAMP;VALUE=DATE-TIME:20260425T000530Z
UID:b765b9fdfc754676a224e34ef97bf3d7@150.164.76.86:8080
CREATED;VALUE=DATE-TIME:20200128T142955Z
DESCRIPTION:Será ministrada a quinta palestra do Programa de Educação p
 ara Aposentadoria (tema a definir). Serão necessários datashow\, audio\,
  1 microfone. Será realizado intervalo com lanche. Se possível\, precisa
 remos de mesas para disponibilizar o lanche.
LAST-MODIFIED;VALUE=DATE-TIME:20230111T201111Z
URL:http://150.164.76.86:8080/cac/agenda/2036257539871833839
END:VEVENT
BEGIN:VTIMEZONE
TZID:America/Sao_Paulo
X-LIC-LOCATION:America/Sao_Paulo
BEGIN:STANDARD
DTSTART;VALUE=DATE-TIME:20200215T230000
TZNAME:BRT
TZOFFSETFROM:-0200
TZOFFSETTO:-0300
END:STANDARD
END:VTIMEZONE
END:VCALENDAR
