BEGIN:VCALENDAR
VERSION:2.0
PRODID:-//Plone.org//NONSGML plone.app.event//EN
X-WR-TIMEZONE:America/Sao_Paulo
BEGIN:VEVENT
SUMMARY:Ciclos de Seminários da Avaliação em [ Outros espacos Auditóri
 o B107 do CAD3]
DTSTART;TZID=America/Sao_Paulo;VALUE=DATE-TIME:20241108T070000
DTEND;TZID=America/Sao_Paulo;VALUE=DATE-TIME:20241108T200000
DTSTAMP;VALUE=DATE-TIME:20260419T175526Z
UID:b2779fd4d80544c99b032e0f1a4c22f1@150.164.76.86:8080
CREATED;VALUE=DATE-TIME:20240919T152836Z
DESCRIPTION:<p>Equipamentos: - data show - microfone - transmissão Youtub
 e (canal da CAC) - técnico (se possível) para auxiliar somente no iníci
 o do evento Obs.: O evento ainda não possui programação.</p>
LAST-MODIFIED;VALUE=DATE-TIME:20241105T135641Z
URL:http://150.164.76.86:8080/cac/agenda/2035282086662629074
END:VEVENT
BEGIN:VTIMEZONE
TZID:America/Sao_Paulo
X-LIC-LOCATION:America/Sao_Paulo
BEGIN:DAYLIGHT
DTSTART;VALUE=DATE-TIME:20241020T010000
TZNAME:BRST
TZOFFSETFROM:-0300
TZOFFSETTO:-0200
END:DAYLIGHT
END:VTIMEZONE
END:VCALENDAR
