BEGIN:VCALENDAR
VERSION:2.0
PRODID:-//Plone.org//NONSGML plone.app.event//EN
X-WR-TIMEZONE:America/Sao_Paulo
BEGIN:VEVENT
SUMMARY:Troca de Gestão - Inderios Consultoria em [ Auditório B101 do CA
 D 3]
DTSTART;TZID=America/Sao_Paulo;VALUE=DATE-TIME:20221216T180000
DTEND;TZID=America/Sao_Paulo;VALUE=DATE-TIME:20221216T210000
DTSTAMP;VALUE=DATE-TIME:20260421T205115Z
UID:ded9af0882304106995c1905219d8cbc@150.164.76.86:8080
CREATED;VALUE=DATE-TIME:20221126T203712Z
DESCRIPTION:<p>O evento será a troca de gestão do projeto de extensão d
 a Inderios Consultoria\, em que serão apresentados os resultados obtidos 
 neste semestre\, bem como a despedida e recepção da gestão antiga e nov
 a gestão.</p>
LAST-MODIFIED;VALUE=DATE-TIME:20221129T195936Z
URL:http://150.164.76.86:8080/cac/agenda/203191226100924606
END:VEVENT
BEGIN:VTIMEZONE
TZID:America/Sao_Paulo
X-LIC-LOCATION:America/Sao_Paulo
BEGIN:DAYLIGHT
DTSTART;VALUE=DATE-TIME:20221016T010000
TZNAME:BRST
TZOFFSETFROM:-0300
TZOFFSETTO:-0200
END:DAYLIGHT
END:VTIMEZONE
END:VCALENDAR
