BEGIN:VCALENDAR
VERSION:2.0
PRODID:-//Plone.org//NONSGML plone.app.event//EN
X-WR-TIMEZONE:America/Sao_Paulo
BEGIN:VEVENT
SUMMARY:Concurso Público TAE da UFMG 2023 em [ Auditorio Nobre do CAD 1 A
 uditorio 1A do CAD 1 Auditorio 2A do CAD 1 Auditorio A102 do Cad 2 Auditor
 io A104 do Cad 2]
DTSTART;TZID=America/Sao_Paulo;VALUE=DATE-TIME:20231021T120000
DTEND;TZID=America/Sao_Paulo;VALUE=DATE-TIME:20231022T210000
DTSTAMP;VALUE=DATE-TIME:20260420T230920Z
UID:a8e56f2fa4564dbd9f80f2a740708f29@150.164.76.86:8080
CREATED;VALUE=DATE-TIME:20230630T123120Z
DESCRIPTION:<p>Concurso público TAE UFMG2023</p>\n<p> </p>\n<div>- CAD1:
  todos os auditórios e salas de aula\, a partir das 12h do dia 21/10/2023
 \, tendo em vista sábado pela manhã ser dia letivo\;</div>\n<div></div>\
 n<div>- CAD 2: todas as salas de aula e auditórios\, a partir das 12h do 
 dia 21/10/2023\, tendo em vista as aulas do CENEX da FALE\, que ocorrem no
  local aos sábados pela manhã\;</div>\n<div></div>\n<div>- CAD3: não po
 de ser utilizado para o Concurso UFMG 2023\, pois já está reservado para
  a Gravação do Grupo de Percussão da UFMG\, nos dias 21 e 22 de outubro
  de 2023.</div>
LAST-MODIFIED;VALUE=DATE-TIME:20230630T133329Z
URL:http://150.164.76.86:8080/cac/agenda/2025367980881656694
END:VEVENT
BEGIN:VTIMEZONE
TZID:America/Sao_Paulo
X-LIC-LOCATION:America/Sao_Paulo
BEGIN:DAYLIGHT
DTSTART;VALUE=DATE-TIME:20231015T010000
TZNAME:BRST
TZOFFSETFROM:-0300
TZOFFSETTO:-0200
END:DAYLIGHT
END:VTIMEZONE
END:VCALENDAR
