BEGIN:VCALENDAR
VERSION:2.0
PRODID:-//Plone.org//NONSGML plone.app.event//EN
X-WR-TIMEZONE:America/Sao_Paulo
BEGIN:VEVENT
SUMMARY:Assembleia Sindical Geral em [ Auditorio Nobre do CAD 1]
DTSTART;TZID=America/Sao_Paulo;VALUE=DATE-TIME:20220407T090000
DTEND;TZID=America/Sao_Paulo;VALUE=DATE-TIME:20220407T130000
DTSTAMP;VALUE=DATE-TIME:20260422T081354Z
UID:e9eea3cfdad04296bd1b4cbd0ec5b17d@150.164.76.86:8080
CREATED;VALUE=DATE-TIME:20220401T173239Z
DESCRIPTION:<p>Reserva de Auditório Assembleia Sindical Geral 07/04 10h F
 ormato híbrido Necessidades: 02 microfones para a mesa 01 microfone para 
 a platéia Cabo de internet Internet Áudio e Vídeo - Será necessário a
 presentar vídeo ao vivo dos participantes online (zoom) no telão Técnic
 o para atendimento ao evento Mesa e 02 cadeiras na entrada para recepção
 </p>
LAST-MODIFIED;VALUE=DATE-TIME:20220405T182228Z
URL:http://150.164.76.86:8080/cac/agenda/2004690610795746014
END:VEVENT
BEGIN:VTIMEZONE
TZID:America/Sao_Paulo
X-LIC-LOCATION:America/Sao_Paulo
BEGIN:STANDARD
DTSTART;VALUE=DATE-TIME:20220219T230000
TZNAME:BRT
TZOFFSETFROM:-0200
TZOFFSETTO:-0300
END:STANDARD
END:VTIMEZONE
END:VCALENDAR
