BEGIN:VCALENDAR
VERSION:2.0
PRODID:-//Plone.org//NONSGML plone.app.event//EN
X-WR-TIMEZONE:America/Sao_Paulo
BEGIN:VEVENT
SUMMARY:Reunião de pais e alunos novatos - Coltec 2022 em [ Auditorio Nob
 re do CAD 1]
DTSTART;TZID=America/Sao_Paulo;VALUE=DATE-TIME:20220321T190000
DTEND;TZID=America/Sao_Paulo;VALUE=DATE-TIME:20220321T210000
DTSTAMP;VALUE=DATE-TIME:20260422T094208Z
UID:e82d4acaedaf4f01af701c274f01f592@150.164.76.86:8080
CREATED;VALUE=DATE-TIME:20220126T181751Z
DESCRIPTION:<p>Reunião da Direção do Coltec com pais e alunos dos ingre
 ssantes no Coltec para o ano letivo de 2022. Pretende-se que a reunião se
 ja feita em formato hibrido: presencial e com transmissão online.</p>
LAST-MODIFIED;VALUE=DATE-TIME:20220311T183603Z
URL:http://150.164.76.86:8080/cac/agenda/1979117208447706038
END:VEVENT
BEGIN:VTIMEZONE
TZID:America/Sao_Paulo
X-LIC-LOCATION:America/Sao_Paulo
BEGIN:STANDARD
DTSTART;VALUE=DATE-TIME:20220219T230000
TZNAME:BRT
TZOFFSETFROM:-0200
TZOFFSETTO:-0300
END:STANDARD
END:VTIMEZONE
END:VCALENDAR
