BEGIN:VCALENDAR
VERSION:2.0
PRODID:-//Plone.org//NONSGML plone.app.event//EN
X-WR-TIMEZONE:America/Sao_Paulo
BEGIN:VEVENT
SUMMARY:Feira EBA em [ Entorno da Praca de Servicos]
DTSTART;TZID=America/Sao_Paulo;VALUE=DATE-TIME:20230404T060000
DTEND;TZID=America/Sao_Paulo;VALUE=DATE-TIME:20230406T180000
DTSTAMP;VALUE=DATE-TIME:20260421T132948Z
UID:52c2bbcc3a03495b9022101154d6d59f@150.164.76.86:8080
CREATED;VALUE=DATE-TIME:20230204T011435Z
DESCRIPTION:A Feira será iniciada ás 06:00 de terça feira para organiza
 ção e encerrada as 19:00 de quinta feira para desmontagem. Não será ne
 cessário nenhum equipameno.
LAST-MODIFIED;VALUE=DATE-TIME:20230206T181802Z
URL:http://150.164.76.86:8080/cac/agenda/1961120676397392789
END:VEVENT
BEGIN:VTIMEZONE
TZID:America/Sao_Paulo
X-LIC-LOCATION:America/Sao_Paulo
BEGIN:STANDARD
DTSTART;VALUE=DATE-TIME:20230225T230000
TZNAME:BRT
TZOFFSETFROM:-0200
TZOFFSETTO:-0300
END:STANDARD
END:VTIMEZONE
END:VCALENDAR
