BEGIN:VCALENDAR
VERSION:2.0
PRODID:-//Plone.org//NONSGML plone.app.event//EN
X-WR-TIMEZONE:America/Sao_Paulo
BEGIN:VEVENT
SUMMARY:6º Curso de Verão em Bioinformática da UFMG em [ Auditorio Nobr
 e do CAD 1]
DTSTART;TZID=America/Sao_Paulo;VALUE=DATE-TIME:20220704T080000
DTEND;TZID=America/Sao_Paulo;VALUE=DATE-TIME:20220708T180000
DTSTAMP;VALUE=DATE-TIME:20260422T030530Z
UID:3c659ef6df75413496eff1154ccd7c75@150.164.76.86:8080
CREATED;VALUE=DATE-TIME:20220419T114409Z
DESCRIPTION:Prezados(as).\n\nIremos precisar de 01 projetor (caso o Audit
 ório não possua)\, microfone e caixa de som.\n\nDia 1. Abertura do event
 o. Palestra do Coordenador do PPG Bioinformática\n\nDia 2. Introdução a
  GNU/Linux\, Introdução à linguagem R e Visualização de dados em R.\n
 \nDia 3. Cursos de Transcriptômica \, Introdução à programação e Det
 ecção de variantes. \n\nDia 4. Cursos de Genômica e Evolução\, Dockin
 g e Proteogenômica. \n\nDia 5. Encerramento do evento. Cursos de Metagen
 ômica\, Montagem e análise de genomas e Dinâmica molecular.\n\nAgradeç
 o antecipadamente pelo apoio de toda equipe do CAD.\n\nAtenciosamente\,\nT
 iago da Silva Ramos
LAST-MODIFIED;VALUE=DATE-TIME:20220425T185405Z
URL:http://150.164.76.86:8080/cac/agenda/1946623796462263047
END:VEVENT
BEGIN:VTIMEZONE
TZID:America/Sao_Paulo
X-LIC-LOCATION:America/Sao_Paulo
BEGIN:STANDARD
DTSTART;VALUE=DATE-TIME:20220219T230000
TZNAME:BRT
TZOFFSETFROM:-0200
TZOFFSETTO:-0300
END:STANDARD
END:VTIMEZONE
END:VCALENDAR
